BEGIN:VCALENDAR
VERSION:2.0
PRODID:-//KB TK Islam AT-TIIN Semarang - ECPv5.14.1//NONSGML v1.0//EN
CALSCALE:GREGORIAN
METHOD:PUBLISH
X-WR-CALNAME:KB TK Islam AT-TIIN Semarang
X-ORIGINAL-URL:https://www.attiinsemarang.sch.id
X-WR-CALDESC:Events for KB TK Islam AT-TIIN Semarang
REFRESH-INTERVAL;VALUE=DURATION:PT1H
X-Robots-Tag:noindex
X-PUBLISHED-TTL:PT1H
BEGIN:VTIMEZONE
TZID:Asia/Krasnoyarsk
BEGIN:STANDARD
TZOFFSETFROM:+0700
TZOFFSETTO:+0700
TZNAME:+07
DTSTART:20241231T170000
END:STANDARD
END:VTIMEZONE
BEGIN:VEVENT
DTSTART;TZID=Asia/Krasnoyarsk:20251122T080000
DTEND;TZID=Asia/Krasnoyarsk:20251122T110000
DTSTAMP:20260425T004811
CREATED:20251106T083841Z
LAST-MODIFIED:20251106T084626Z
UID:759-1763798400-1763809200@www.attiinsemarang.sch.id
SUMMARY:🌸 Parenting & Bazar: Sentuhan Ajaib untuk Si Kecil yang Lebih Sehat dan Ceria 🌸
DESCRIPTION:KB/TK Islam At-Tiin dengan bangga mempersembahkan kegiatan Parenting & Bazar yang akan menjadi momen kebersamaan dan pembelajaran bagi para orang tua dan anak-anak tercinta. \n📅 Waktu & Tempat\n\nHari/Tanggal: Sabtu\, 22 November 2025\n\n\nWaktu: 08.00 – 11.00 WIB\n\n\nTempat: Sekolah KB/TK Islam At-Tiin\n\n\n\n🎯 Tema Kegiatan\n“Totok Punggung – Sentuhan Ajaib untuk Si Kecil yang Lebih Sehat dan Ceria”Kegiatan ini mengajak para orang tua untuk memahami pentingnya sentuhan kasih dalam menjaga kesehatan dan kebugaran anak melalui metode totok punggung dasar. \n\n🌿 Rangkaian Acara\n\n\n👐 Pelatihan Totok Punggung DasarBelajar langsung teknik totok punggung sederhana yang bermanfaat bagi kesehatan si kecil.\n\n\n🛍️ Bazar UMKMDukung dan nikmati berbagai produk menarik dari para pelaku UMKM.\n\n\n❤️ Cek Tensi & Konsultasi Kesehatan GratisPemeriksaan kesehatan umum bagi orang tua dan guru.\n\n\n👀 Pengecekan Mata GratisLayanan pemeriksaan mata untuk mendeteksi sejak dini kesehatan penglihatan anak.\n\n\n\n💬 Inspirasi Hari Ini\n“At the end of the day\, the most overwhelming key to a child’s success is the positive involvement of the parents.”— Jane D. Hull \n\n👨‍👩‍👧‍👦 Mari Hadir & Berpartisipasi!\nKegiatan ini tidak hanya memberikan manfaat kesehatan\, tetapi juga mempererat hubungan antara sekolah dan orang tua. Yuk\, ajak keluarga untuk hadir dan bersama-sama menciptakan anak-anak yang sehat\, ceria\, dan penuh cinta! \n\n📍 Diselenggarakan oleh:Komite KB/TK Islam At-Tiin Tahun 2025–2026
URL:https://www.attiinsemarang.sch.id/event/%f0%9f%8c%b8-parenting-bazar-sentuhan-ajaib-untuk-si-kecil-yang-lebih-sehat-dan-ceria-%f0%9f%8c%b8/
ATTACH;FMTTYPE=image/jpeg:https://www.attiinsemarang.sch.id/wp-content/uploads/2025/11/WhatsApp-Image-2025-11-06-at-11.16.11-scaled.jpeg
END:VEVENT
END:VCALENDAR